Workbook

Sheet Results
A1: Maynard’s Tribe — September 2026 CWL | Crystal League III
A3: Position | B3: Player | C3: Stars | D3: Destruction % | E3: Attacks Used | F3: Attack Limit | G3: Attacks | H3: Completion % | I3: Stars per Attack | J3: Avg. Destruction
A4: 1 | B4: CM-MK-General | C4: 19 | D4: 645 | E4: 7 | F4: 7 | G4: 7/7 | H4: =IF(F4=0,0,E4/F4) -> 1 | I4: =IF(E4=0,0,C4/E4) -> 2.7142857 | J4: =IF(E4=0,0,D4/E4) -> 92.142857
A5: 2 | B5: CM-MK-Admiral | C5: 18 | D5: 598 | E5: 7 | F5: 7 | G5: 7/7 | H5: =IF(F5=0,0,E5/F5) -> 1 | I5: =IF(E5=0,0,C5/E5) -> 2.5714286 | J5: =IF(E5=0,0,D5/E5) -> 85.428571
A6: 3 | B6: zukkus | C6: 17 | D6: 655 | E6: 7 | F6: 7 | G6: 7/7 | H6: =IF(F6=0,0,E6/F6) -> 1 | I6: =IF(E6=0,0,C6/E6) -> 2.4285714 | J6: =IF(E6=0,0,D6/E6) -> 93.571429
A7: 4 | B7: diN MOR | C7: 17 | D7: 642 | E7: 7 | F7: 7 | G7: 7/7 | H7: =IF(F7=0,0,E7/F7) -> 1 | I7: =IF(E7=0,0,C7/E7) -> 2.4285714 | J7: =IF(E7=0,0,D7/E7) -> 91.714286
A8: 5 | B8: OriginForest3 | C8: 17 | D8: 590 | E8: 7 | F8: 7 | G8: 7/7 | H8: =IF(F8=0,0,E8/F8) -> 1 | I8: =IF(E8=0,0,C8/E8) -> 2.4285714 | J8: =IF(E8=0,0,D8/E8) -> 84.285714
A9: 6 | B9: Gopher2 | C9: 16 | D9: 566 | E9: 7 | F9: 7 | G9: 7/7 | H9: =IF(F9=0,0,E9/F9) -> 1 | I9: =IF(E9=0,0,C9/E9) -> 2.2857143 | J9: =IF(E9=0,0,D9/E9) -> 80.857143
A10: 7 | B10: Frieza | C10: 15 | D10: 558 | E10: 7 | F10: 7 | G10: 7/7 | H10: =IF(F10=0,0,E10/F10) -> 1 | I10: =IF(E10=0,0,C10/E10) -> 2.1428571 | J10: =IF(E10=0,0,D10/E10) -> 79.714286
A11: 8 | B11: Henry | C11: 15 | D11: 543 | E11: 7 | F11: 7 | G11: 7/7 | H11: =IF(F11=0,0,E11/F11) -> 1 | I11: =IF(E11=0,0,C11/E11) -> 2.1428571 | J11: =IF(E11=0,0,D11/E11) -> 77.571429
A12: 9 | B12: CM Mel's Empire | C12: 15 | D12: 517 | E12: 7 | F12: 7 | G12: 7/7 | H12: =IF(F12=0,0,E12/F12) -> 1 | I12: =IF(E12=0,0,C12/E12) -> 2.1428571 | J12: =IF(E12=0,0,D12/E12) -> 73.857143
A13: 10 | B13: gvade | C13: 14 | D13: 491 | E13: 7 | F13: 7 | G13: 7/7 | H13: =IF(F13=0,0,E13/F13) -> 1 | I13: =IF(E13=0,0,C13/E13) -> 2 | J13: =IF(E13=0,0,D13/E13) -> 70.142857
A14: 11 | B14: Unstoppable Mel | C14: 13 | D14: 529 | E14: 7 | F14: 7 | G14: 7/7 | H14: =IF(F14=0,0,E14/F14) -> 1 | I14: =IF(E14=0,0,C14/E14) -> 1.8571429 | J14: =IF(E14=0,0,D14/E14) -> 75.571429
A15: 12 | B15: Gopher | C15: 13 | D15: 485 | E15: 7 | F15: 7 | G15: 7/7 | H15: =IF(F15=0,0,E15/F15) -> 1 | I15: =IF(E15=0,0,C15/E15) -> 1.8571429 | J15: =IF(E15=0,0,D15/E15) -> 69.285714
... A23: 17 | B23: cursillo | C23: 0 | D23: 0 | E23: 0 | F23: 0 | G23: 0/0 | H23: =IF(F23=0,0,E23/F23) -> 0 | I23: =IF(E23=0,0,C23/E23) -> 0 | J23: =IF(E23=0,0,D23/E23) -> 0

Sheet Summary
A1: Maynard’s Tribe — September 2026 CWL Summary
A3: Visible Player Metrics | B3: Value | D3: League Result | E3: Value
A4: Visible players | B4: 20 | D4: League | E4: Crystal League III
A5: Player-earned stars | B5: =SUM(Results!C4:C23) -> 224 | D5: Final position | E5: 3
A6: Total destruction | B6: =SUM(Results!D4:D23) -> 8207 | D6: League stars | E6: 254
A7: Attacks used | B7: =SUM(Results!E4:E23) -> 104 | D7: League destruction | E7: 8207
A8: Available attacks | B8: =SUM(Results!F4:F23) -> 105 | D8: League minus visible player stars | E8: =E6-B5 -> 30
A9: Participation | B9: =IF(B8=0,0,B7/B8) -> 0.99047619 | D9: Stars behind 2nd | E9: 48
A10: Stars per attack | B10: =IF(B7=0,0,B5/B7) -> 2.1538462 | D10: Result | E10: 3rd place
A11: Avg. destruction per attack | B11: =IF(B7=0,0,B6/B7) -> 78.913462
A12: Perfect 21-star players | B12: =COUNTIF(Results!C4:C23,21) -> 0
A14: Top 10 Visible Players | B14: Stars | C14: Destruction % | D14: Attacks
A15: CM-MK-General | B15: 19 | C15: 645 | D15: 7/7
A16: CM-MK-Admiral | B16: 18 | C16: 598 | D16: 7/7
A17: zukkus | B17: 17 | C17: 655 | D17: 7/7
A18: diN MOR | B18: 17 | C18: 642 | D18: 7/7
A19: OriginForest3 | B19: 17 | C19: 590 | D19: 7/7
A20: Gopher2 | B20: 16 | C20: 566 | D20: 7/7
A21: Frieza | B21: 15 | C21: 558 | D21: 7/7
A22: Henry | B22: 15 | C22: 543 | D22: 7/7
A23: CM Mel's Empire | B23: 15 | C23: 517 | D23: 7/7
A24: gvade | B24: 14 | C24: 491 | D24: 7/7

Sheet Clan Maynard Accounts
A1: Clan Maynard Accounts — Maynard’s Tribe September 2026 CWL
A3: Position | B3: Player | C3: Stars | D3: Destruction % | E3: Attacks Used | F3: Attack Limit | G3: Attacks | H3: Completion % | I3: Stars per Attack | J3: Avg. Destruction
A4: 1 | B4: CM-MK-General | C4: 19 | D4: 645 | E4: 7 | F4: 7 | G4: 7/7 | H4: =IF(F4=0,0,E4/F4) -> 1 | I4: =IF(E4=0,0,C4/E4) -> 2.7142857 | J4: =IF(E4=0,0,D4/E4) -> 92.142857
A5: 2 | B5: CM-MK-Admiral | C5: 18 | D5: 598 | E5: 7 | F5: 7 | G5: 7/7 | H5: =IF(F5=0,0,E5/F5) -> 1 | I5: =IF(E5=0,0,C5/E5) -> 2.5714286 | J5: =IF(E5=0,0,D5/E5) -> 85.428571
A6: 15 | B6: CM-MK-Major | C6: 10 | D6: 356 | E6: 4 | F6: 4 | G6: 4/4 | H6: =IF(F6=0,0,E6/F6) -> 1 | I6: =IF(E6=0,0,C6/E6) -> 2.5 | J6: =IF(E6=0,0,D6/E6) -> 89
A9: Clan Maynard Summary | B9: Value
A10: Visible Clan Maynard accounts | B10: 3
A11: Stars | B11: =SUM(C4:C6) -> 47
A12: Destruction | B12: =SUM(D4:D6) -> 1599
A13: Attacks used | B13: =SUM(E4:E6) -> 18
A14: Available attacks | B14: =SUM(F4:F6) -> 18
A15: Stars per attack | B15: =IF(B13=0,0,B11/B13) -> 2.6111111

Sheet League Standings
A1: Crystal League III — September 2026 Final Standings
A3: Rank | B3: Clan | C3: Stars | D3: Destruction % | E3: Status
A4: 1 | B4: grafiti my life | C4: 338 | D4: 9508 | E4: Promotion
A5: 2 | B5: BD YOUNG BOYS | C5: 302 | D5: 8317 | E5: Promotion
A6: 3 | B6: Maynard’s Tribe | C6: 254 | D6: 8207
A7: 4 | B7: Death Squad | C7: 249 | D7: 6956
A8: 5 | B8: Palatao XiaoMei | C8: 248 | D8: 7973
A9: 6 | B9: uNITA Ludus | C9: 223 | D9: 7314
A10: 7 | B10: jadavpur univ | C10: 193 | D10: 6794 | E10: Relegation
A11: 8 | B11: IDF Soldiers | C11: 120 | D11: 5183 | E11: Relegation
